BEGIN:VCALENDAR
VERSION:2.0
PRODID:icalendar-ruby
CALSCALE:GREGORIAN
METHOD:PUBLISH
BEGIN:VEVENT
DTSTAMP:20260421T090103Z
UID:416-37347@yfccomoxvalley.com
DTSTART:20260420T223000Z
DTEND:20260421T010000Z
CLASS:PUBLIC
CREATED:20260401T141207
DESCRIPTION:Girls\, this week bring any unwanted items or clothes (in good 
 condition) and we'll swap and take home some new-to-us items!\nGirls' Grou
 p is a space for girls (age 10 and up) to talk about life\, build meaningf
 ul friendships and learn new skills. \nMore info: 250-650-9616 (Rebekah K
 enway)
LAST-MODIFIED:20260401T141207
LOCATION:4729 Headquarters Rd\, Courtenay
SUMMARY:Girls' Group
URL;VALUE=URI:https://www.yfccomoxvalley.com/events/girls-group--416/2026-0
 4-20
ATTACH;FILENAME=67.png;FMTTYPE=image/png:https://dq5pwpg1q8ru0.cloudfront.n
 et/2026/04/01/21/12/07/8b3c7fda-98fe-4e62-84a1-97c1b790b83e/67.png
END:VEVENT
END:VCALENDAR
